BEGIN:VCALENDAR
VERSION:2.0
PRODID:-//Lampworking | Community | Chat | The Glass Dragons - ECPv6.15.20//NONSGML v1.0//EN
CALSCALE:GREGORIAN
METHOD:PUBLISH
X-WR-CALNAME:Lampworking | Community | Chat | The Glass Dragons
X-ORIGINAL-URL:https://theglassdragons.com
X-WR-CALDESC:Events for Lampworking | Community | Chat | The Glass Dragons
REFRESH-INTERVAL;VALUE=DURATION:PT1H
X-Robots-Tag:noindex
X-PUBLISHED-TTL:PT1H
BEGIN:VTIMEZONE
TZID:America/New_York
BEGIN:DAYLIGHT
TZOFFSETFROM:-0500
TZOFFSETTO:-0400
TZNAME:EDT
DTSTART:20250309T070000
END:DAYLIGHT
BEGIN:STANDARD
TZOFFSETFROM:-0400
TZOFFSETTO:-0500
TZNAME:EST
DTSTART:20251102T060000
END:STANDARD
BEGIN:DAYLIGHT
TZOFFSETFROM:-0500
TZOFFSETTO:-0400
TZNAME:EDT
DTSTART:20260308T070000
END:DAYLIGHT
BEGIN:STANDARD
TZOFFSETFROM:-0400
TZOFFSETTO:-0500
TZNAME:EST
DTSTART:20261101T060000
END:STANDARD
BEGIN:DAYLIGHT
TZOFFSETFROM:-0500
TZOFFSETTO:-0400
TZNAME:EDT
DTSTART:20270314T070000
END:DAYLIGHT
BEGIN:STANDARD
TZOFFSETFROM:-0400
TZOFFSETTO:-0500
TZNAME:EST
DTSTART:20271107T060000
END:STANDARD
END:VTIMEZONE
BEGIN:VEVENT
DTSTART;TZID=America/New_York:20260428T193000
DTEND;TZID=America/New_York:20260428T203000
DTSTAMP:20260423T090934
CREATED:20260401T144428Z
LAST-MODIFIED:20260401T144428Z
UID:10000889-1777404600-1777408200@theglassdragons.com
SUMMARY:Dragons Book Club
DESCRIPTION:  \nVisit the Book Club’s Facebook Group to find out about future reads. \nWe also have a Goodreads Book Club Group. \n Welcome to the Glass Dragons Book Club! The intent of this book club is for the pure enjoyment of the written word. The theme is Books. Any title may be suggested. Book Club is about conversation\, friendship\, and books! This is open to anybody who likes to read. Membership is not required. \nIf you would like to participate in the online discussions in our Zoom room\, please send an email to bookclub@theglassdragons.com
URL:https://theglassdragons.com/event/dragons-book-club/
CATEGORIES:Dragons Book Club
ATTACH;FMTTYPE=image/webp:https://theglassdragons.com/wp-content/uploads/2026/01/Book-Club-Banner-66-e1772760984424.webp
END:VEVENT
BEGIN:VEVENT
DTSTART;TZID=America/New_York:20260502T130000
DTEND;TZID=America/New_York:20260502T160000
DTSTAMP:20260423T090934
CREATED:20260201T033242Z
LAST-MODIFIED:20260201T041854Z
UID:10000873-1777726800-1777737600@theglassdragons.com
SUMMARY:Create Together for Dragons
DESCRIPTION:Join us for a Create Together session with the art/craft of your choice! Everyone is welcome – all skill levels\, all designs\, all forms of creative work. Whether you’re torching\, doing any other creative activity\, or just dropping by to say hello\, your presence matters.
URL:https://theglassdragons.com/event/create-together-for-dragons/2026-05-02/
LOCATION:Dragon Clubhouse
CATEGORIES:Chat Room
ATTACH;FMTTYPE=image/webp:https://theglassdragons.com/wp-content/uploads/2026/01/Create-Together.webp
END:VEVENT
BEGIN:VEVENT
DTSTART;TZID=America/New_York:20260511T193000
DTEND;TZID=America/New_York:20260511T203000
DTSTAMP:20260423T090934
CREATED:20260401T162115Z
LAST-MODIFIED:20260401T162115Z
UID:10000890-1778527800-1778531400@theglassdragons.com
SUMMARY:Education Committee Meeting
DESCRIPTION:
URL:https://theglassdragons.com/event/education-committee-meeting-4-2/2026-05-11/
LOCATION:Dragon Clubhouse
CATEGORIES:Educational Team Meeting
ATTACH;FMTTYPE=image/png:https://theglassdragons.com/wp-content/uploads/2024/04/EducationTeam.png
END:VEVENT
BEGIN:VEVENT
DTSTART;TZID=America/New_York:20260513T150000
DTEND;TZID=America/New_York:20260513T160000
DTSTAMP:20260423T090934
CREATED:20260201T034434Z
LAST-MODIFIED:20260201T035656Z
UID:10000812-1778684400-1778688000@theglassdragons.com
SUMMARY:Second Wednesday Monthly – Member Chats - 1st Session
DESCRIPTION:We’re hosting an open Zoom chat for members to connect\, share what they’re working on\, and ask questions. Bring your glass projects\, grab a drink\, and hang out with us.
URL:https://theglassdragons.com/event/second-wednesday-monthly-member-chats/2026-05-13/
LOCATION:Dragon Clubhouse
CATEGORIES:Chat Room
ATTACH;FMTTYPE=image/webp:https://theglassdragons.com/wp-content/uploads/2026/01/3PM-Wednesday-Chat.webp
END:VEVENT
BEGIN:VEVENT
DTSTART;TZID=America/New_York:20260513T190000
DTEND;TZID=America/New_York:20260513T200000
DTSTAMP:20260423T090934
CREATED:20260201T035250Z
LAST-MODIFIED:20260201T040629Z
UID:10000823-1778698800-1778702400@theglassdragons.com
SUMMARY:Second Wednesday Monthly – Member Chats - 2nd Session
DESCRIPTION:We’re hosting an open Zoom chat for members to connect\, share what they’re working on\, and ask questions. Bring your glass projects\, grab a drink\, and hang out with us.
URL:https://theglassdragons.com/event/second-wednesday-monthly-member-chats-2nd-session/2026-05-13/
LOCATION:Dragon Clubhouse
CATEGORIES:Chat Room
ATTACH;FMTTYPE=image/webp:https://theglassdragons.com/wp-content/uploads/2026/01/7PM-Wednesday-Chat.webp
END:VEVENT
BEGIN:VEVENT
DTSTART;TZID=America/New_York:20260513T230000
DTEND;TZID=America/New_York:20260513T230000
DTSTAMP:20260423T090934
CREATED:20260201T035522Z
LAST-MODIFIED:20260201T035823Z
UID:10000834-1778713200-1778713200@theglassdragons.com
SUMMARY:Second Wednesday Monthly – Member Chats - 3rd Session
DESCRIPTION:We’re hosting an open Zoom chat for members to connect\, share what they’re working on\, and ask questions. Bring your glass projects\, grab a drink\, and hang out with us.
URL:https://theglassdragons.com/event/second-wednesday-monthly-member-chats-3rd-session/2026-05-13/
LOCATION:Dragon Clubhouse
CATEGORIES:Chat Room
ATTACH;FMTTYPE=image/webp:https://theglassdragons.com/wp-content/uploads/2026/01/11PM-Wednesday-Chat.webp
END:VEVENT
BEGIN:VEVENT
DTSTART;TZID=America/New_York:20260515T193000
DTEND;TZID=America/New_York:20260515T203000
DTSTAMP:20260423T090934
CREATED:20250731T193616Z
LAST-MODIFIED:20250731T193617Z
UID:10000456-1778873400-1778877000@theglassdragons.com
SUMMARY:Fusing Friday
DESCRIPTION:Bring your finished fused pieces to share. Discuss common techniques\, ideas\, tips\, and tricks you have used in your fusing projects (but not any trade secrets from instructors\, please). Tell us about classes you have taken\, and which ones you have found valuable. \nHere are some ways you can share your work: \nTake photos in advance and share your screen during the meeting.\nHold your pieces up to the camera (holding right in front of your face works well).\nWe would be happy to share your images for you\, just email images to us at: communication@theglassdragons.com
URL:https://theglassdragons.com/event/fusing-friday-5-3/2026-05-15/
CATEGORIES:Fusing Friday
ATTACH;FMTTYPE=image/jpeg:https://theglassdragons.com/wp-content/uploads/2021/08/FusingFriday3.jpg
END:VEVENT
BEGIN:VEVENT
DTSTART;TZID=America/New_York:20260517T193000
DTEND;TZID=America/New_York:20260517T203000
DTSTAMP:20260423T090934
CREATED:20260201T025615Z
LAST-MODIFIED:20260201T040020Z
UID:10000845-1779046200-1779049800@theglassdragons.com
SUMMARY:Creativity Discussion
DESCRIPTION:Our exploration of creativity continues. There’s so much more to uncover about what ignites our imagination\, fuels our ideas\, and keeps us inspired. Join us on the 3rd Sunday of each month as we continue the conversation—we’d love to have you be part of this ongoing creative journey! \nFeel free to join us on the 3rd Sunday of each month – we’d love for you to be a part of this ongoing journey!
URL:https://theglassdragons.com/event/creativity-discussion-7/2026-05-17/
LOCATION:Dragon Clubhouse
CATEGORIES:Creativity Journey
ATTACH;FMTTYPE=image/jpeg:https://theglassdragons.com/wp-content/uploads/2025/02/Creativity-Discussion-e1761964064576.jpg
END:VEVENT
BEGIN:VEVENT
DTSTART;TZID=America/New_York:20260601T193000
DTEND;TZID=America/New_York:20260601T203000
DTSTAMP:20260423T090934
CREATED:20260401T162115Z
LAST-MODIFIED:20260401T162115Z
UID:10000891-1780342200-1780345800@theglassdragons.com
SUMMARY:Education Committee Meeting
DESCRIPTION:
URL:https://theglassdragons.com/event/education-committee-meeting-4-2/2026-06-01/
LOCATION:Dragon Clubhouse
CATEGORIES:Educational Team Meeting
ATTACH;FMTTYPE=image/png:https://theglassdragons.com/wp-content/uploads/2024/04/EducationTeam.png
END:VEVENT
BEGIN:VEVENT
DTSTART;TZID=America/New_York:20260606T130000
DTEND;TZID=America/New_York:20260606T160000
DTSTAMP:20260423T090934
CREATED:20260201T033242Z
LAST-MODIFIED:20260201T041854Z
UID:10000874-1780750800-1780761600@theglassdragons.com
SUMMARY:Create Together for Dragons
DESCRIPTION:Join us for a Create Together session with the art/craft of your choice! Everyone is welcome – all skill levels\, all designs\, all forms of creative work. Whether you’re torching\, doing any other creative activity\, or just dropping by to say hello\, your presence matters.
URL:https://theglassdragons.com/event/create-together-for-dragons/2026-06-06/
LOCATION:Dragon Clubhouse
CATEGORIES:Chat Room
ATTACH;FMTTYPE=image/webp:https://theglassdragons.com/wp-content/uploads/2026/01/Create-Together.webp
END:VEVENT
BEGIN:VEVENT
DTSTART;TZID=America/New_York:20260610T150000
DTEND;TZID=America/New_York:20260610T160000
DTSTAMP:20260423T090934
CREATED:20260201T034434Z
LAST-MODIFIED:20260201T035656Z
UID:10000813-1781103600-1781107200@theglassdragons.com
SUMMARY:Second Wednesday Monthly – Member Chats - 1st Session
DESCRIPTION:We’re hosting an open Zoom chat for members to connect\, share what they’re working on\, and ask questions. Bring your glass projects\, grab a drink\, and hang out with us.
URL:https://theglassdragons.com/event/second-wednesday-monthly-member-chats/2026-06-10/
LOCATION:Dragon Clubhouse
CATEGORIES:Chat Room
ATTACH;FMTTYPE=image/webp:https://theglassdragons.com/wp-content/uploads/2026/01/3PM-Wednesday-Chat.webp
END:VEVENT
BEGIN:VEVENT
DTSTART;TZID=America/New_York:20260610T190000
DTEND;TZID=America/New_York:20260610T200000
DTSTAMP:20260423T090934
CREATED:20260201T035250Z
LAST-MODIFIED:20260201T040629Z
UID:10000824-1781118000-1781121600@theglassdragons.com
SUMMARY:Second Wednesday Monthly – Member Chats - 2nd Session
DESCRIPTION:We’re hosting an open Zoom chat for members to connect\, share what they’re working on\, and ask questions. Bring your glass projects\, grab a drink\, and hang out with us.
URL:https://theglassdragons.com/event/second-wednesday-monthly-member-chats-2nd-session/2026-06-10/
LOCATION:Dragon Clubhouse
CATEGORIES:Chat Room
ATTACH;FMTTYPE=image/webp:https://theglassdragons.com/wp-content/uploads/2026/01/7PM-Wednesday-Chat.webp
END:VEVENT
BEGIN:VEVENT
DTSTART;TZID=America/New_York:20260610T230000
DTEND;TZID=America/New_York:20260610T230000
DTSTAMP:20260423T090934
CREATED:20260201T035522Z
LAST-MODIFIED:20260201T035823Z
UID:10000835-1781132400-1781132400@theglassdragons.com
SUMMARY:Second Wednesday Monthly – Member Chats - 3rd Session
DESCRIPTION:We’re hosting an open Zoom chat for members to connect\, share what they’re working on\, and ask questions. Bring your glass projects\, grab a drink\, and hang out with us.
URL:https://theglassdragons.com/event/second-wednesday-monthly-member-chats-3rd-session/2026-06-10/
LOCATION:Dragon Clubhouse
CATEGORIES:Chat Room
ATTACH;FMTTYPE=image/webp:https://theglassdragons.com/wp-content/uploads/2026/01/11PM-Wednesday-Chat.webp
END:VEVENT
BEGIN:VEVENT
DTSTART;TZID=America/New_York:20260619T193000
DTEND;TZID=America/New_York:20260619T203000
DTSTAMP:20260423T090934
CREATED:20250731T193616Z
LAST-MODIFIED:20250731T193617Z
UID:10000457-1781897400-1781901000@theglassdragons.com
SUMMARY:Fusing Friday
DESCRIPTION:Bring your finished fused pieces to share. Discuss common techniques\, ideas\, tips\, and tricks you have used in your fusing projects (but not any trade secrets from instructors\, please). Tell us about classes you have taken\, and which ones you have found valuable. \nHere are some ways you can share your work: \nTake photos in advance and share your screen during the meeting.\nHold your pieces up to the camera (holding right in front of your face works well).\nWe would be happy to share your images for you\, just email images to us at: communication@theglassdragons.com
URL:https://theglassdragons.com/event/fusing-friday-5-3/2026-06-19/
CATEGORIES:Fusing Friday
ATTACH;FMTTYPE=image/jpeg:https://theglassdragons.com/wp-content/uploads/2021/08/FusingFriday3.jpg
END:VEVENT
BEGIN:VEVENT
DTSTART;TZID=America/New_York:20260621T193000
DTEND;TZID=America/New_York:20260621T203000
DTSTAMP:20260423T090934
CREATED:20260201T025615Z
LAST-MODIFIED:20260201T040020Z
UID:10000846-1782070200-1782073800@theglassdragons.com
SUMMARY:Creativity Discussion
DESCRIPTION:Our exploration of creativity continues. There’s so much more to uncover about what ignites our imagination\, fuels our ideas\, and keeps us inspired. Join us on the 3rd Sunday of each month as we continue the conversation—we’d love to have you be part of this ongoing creative journey! \nFeel free to join us on the 3rd Sunday of each month – we’d love for you to be a part of this ongoing journey!
URL:https://theglassdragons.com/event/creativity-discussion-7/2026-06-21/
LOCATION:Dragon Clubhouse
CATEGORIES:Creativity Journey
ATTACH;FMTTYPE=image/jpeg:https://theglassdragons.com/wp-content/uploads/2025/02/Creativity-Discussion-e1761964064576.jpg
END:VEVENT
BEGIN:VEVENT
DTSTART;TZID=America/New_York:20260622T193000
DTEND;TZID=America/New_York:20260622T203000
DTSTAMP:20260423T090934
CREATED:20260401T162115Z
LAST-MODIFIED:20260401T162115Z
UID:10000892-1782156600-1782160200@theglassdragons.com
SUMMARY:Education Committee Meeting
DESCRIPTION:
URL:https://theglassdragons.com/event/education-committee-meeting-4-2/2026-06-22/
LOCATION:Dragon Clubhouse
CATEGORIES:Educational Team Meeting
ATTACH;FMTTYPE=image/png:https://theglassdragons.com/wp-content/uploads/2024/04/EducationTeam.png
END:VEVENT
BEGIN:VEVENT
DTSTART;TZID=America/New_York:20260704T130000
DTEND;TZID=America/New_York:20260704T160000
DTSTAMP:20260423T090934
CREATED:20260201T033242Z
LAST-MODIFIED:20260201T041854Z
UID:10000875-1783170000-1783180800@theglassdragons.com
SUMMARY:Create Together for Dragons
DESCRIPTION:Join us for a Create Together session with the art/craft of your choice! Everyone is welcome – all skill levels\, all designs\, all forms of creative work. Whether you’re torching\, doing any other creative activity\, or just dropping by to say hello\, your presence matters.
URL:https://theglassdragons.com/event/create-together-for-dragons/2026-07-04/
LOCATION:Dragon Clubhouse
CATEGORIES:Chat Room
ATTACH;FMTTYPE=image/webp:https://theglassdragons.com/wp-content/uploads/2026/01/Create-Together.webp
END:VEVENT
BEGIN:VEVENT
DTSTART;TZID=America/New_York:20260708T150000
DTEND;TZID=America/New_York:20260708T160000
DTSTAMP:20260423T090934
CREATED:20260201T034434Z
LAST-MODIFIED:20260201T035656Z
UID:10000814-1783522800-1783526400@theglassdragons.com
SUMMARY:Second Wednesday Monthly – Member Chats - 1st Session
DESCRIPTION:We’re hosting an open Zoom chat for members to connect\, share what they’re working on\, and ask questions. Bring your glass projects\, grab a drink\, and hang out with us.
URL:https://theglassdragons.com/event/second-wednesday-monthly-member-chats/2026-07-08/
LOCATION:Dragon Clubhouse
CATEGORIES:Chat Room
ATTACH;FMTTYPE=image/webp:https://theglassdragons.com/wp-content/uploads/2026/01/3PM-Wednesday-Chat.webp
END:VEVENT
BEGIN:VEVENT
DTSTART;TZID=America/New_York:20260708T190000
DTEND;TZID=America/New_York:20260708T200000
DTSTAMP:20260423T090934
CREATED:20260201T035250Z
LAST-MODIFIED:20260201T040629Z
UID:10000825-1783537200-1783540800@theglassdragons.com
SUMMARY:Second Wednesday Monthly – Member Chats - 2nd Session
DESCRIPTION:We’re hosting an open Zoom chat for members to connect\, share what they’re working on\, and ask questions. Bring your glass projects\, grab a drink\, and hang out with us.
URL:https://theglassdragons.com/event/second-wednesday-monthly-member-chats-2nd-session/2026-07-08/
LOCATION:Dragon Clubhouse
CATEGORIES:Chat Room
ATTACH;FMTTYPE=image/webp:https://theglassdragons.com/wp-content/uploads/2026/01/7PM-Wednesday-Chat.webp
END:VEVENT
BEGIN:VEVENT
DTSTART;TZID=America/New_York:20260708T230000
DTEND;TZID=America/New_York:20260708T230000
DTSTAMP:20260423T090934
CREATED:20260201T035522Z
LAST-MODIFIED:20260201T035823Z
UID:10000836-1783551600-1783551600@theglassdragons.com
SUMMARY:Second Wednesday Monthly – Member Chats - 3rd Session
DESCRIPTION:We’re hosting an open Zoom chat for members to connect\, share what they’re working on\, and ask questions. Bring your glass projects\, grab a drink\, and hang out with us.
URL:https://theglassdragons.com/event/second-wednesday-monthly-member-chats-3rd-session/2026-07-08/
LOCATION:Dragon Clubhouse
CATEGORIES:Chat Room
ATTACH;FMTTYPE=image/webp:https://theglassdragons.com/wp-content/uploads/2026/01/11PM-Wednesday-Chat.webp
END:VEVENT
BEGIN:VEVENT
DTSTART;TZID=America/New_York:20260713T193000
DTEND;TZID=America/New_York:20260713T203000
DTSTAMP:20260423T090934
CREATED:20260401T162115Z
LAST-MODIFIED:20260401T162115Z
UID:10000893-1783971000-1783974600@theglassdragons.com
SUMMARY:Education Committee Meeting
DESCRIPTION:
URL:https://theglassdragons.com/event/education-committee-meeting-4-2/2026-07-13/
LOCATION:Dragon Clubhouse
CATEGORIES:Educational Team Meeting
ATTACH;FMTTYPE=image/png:https://theglassdragons.com/wp-content/uploads/2024/04/EducationTeam.png
END:VEVENT
BEGIN:VEVENT
DTSTART;TZID=America/New_York:20260717T193000
DTEND;TZID=America/New_York:20260717T203000
DTSTAMP:20260423T090934
CREATED:20250731T193616Z
LAST-MODIFIED:20250731T193617Z
UID:10000458-1784316600-1784320200@theglassdragons.com
SUMMARY:Fusing Friday
DESCRIPTION:Bring your finished fused pieces to share. Discuss common techniques\, ideas\, tips\, and tricks you have used in your fusing projects (but not any trade secrets from instructors\, please). Tell us about classes you have taken\, and which ones you have found valuable. \nHere are some ways you can share your work: \nTake photos in advance and share your screen during the meeting.\nHold your pieces up to the camera (holding right in front of your face works well).\nWe would be happy to share your images for you\, just email images to us at: communication@theglassdragons.com
URL:https://theglassdragons.com/event/fusing-friday-5-3/2026-07-17/
CATEGORIES:Fusing Friday
ATTACH;FMTTYPE=image/jpeg:https://theglassdragons.com/wp-content/uploads/2021/08/FusingFriday3.jpg
END:VEVENT
BEGIN:VEVENT
DTSTART;TZID=America/New_York:20260719T193000
DTEND;TZID=America/New_York:20260719T203000
DTSTAMP:20260423T090934
CREATED:20260201T025615Z
LAST-MODIFIED:20260201T040020Z
UID:10000847-1784489400-1784493000@theglassdragons.com
SUMMARY:Creativity Discussion
DESCRIPTION:Our exploration of creativity continues. There’s so much more to uncover about what ignites our imagination\, fuels our ideas\, and keeps us inspired. Join us on the 3rd Sunday of each month as we continue the conversation—we’d love to have you be part of this ongoing creative journey! \nFeel free to join us on the 3rd Sunday of each month – we’d love for you to be a part of this ongoing journey!
URL:https://theglassdragons.com/event/creativity-discussion-7/2026-07-19/
LOCATION:Dragon Clubhouse
CATEGORIES:Creativity Journey
ATTACH;FMTTYPE=image/jpeg:https://theglassdragons.com/wp-content/uploads/2025/02/Creativity-Discussion-e1761964064576.jpg
END:VEVENT
BEGIN:VEVENT
DTSTART;TZID=America/New_York:20260801T130000
DTEND;TZID=America/New_York:20260801T160000
DTSTAMP:20260423T090934
CREATED:20260201T033242Z
LAST-MODIFIED:20260201T041854Z
UID:10000876-1785589200-1785600000@theglassdragons.com
SUMMARY:Create Together for Dragons
DESCRIPTION:Join us for a Create Together session with the art/craft of your choice! Everyone is welcome – all skill levels\, all designs\, all forms of creative work. Whether you’re torching\, doing any other creative activity\, or just dropping by to say hello\, your presence matters.
URL:https://theglassdragons.com/event/create-together-for-dragons/2026-08-01/
LOCATION:Dragon Clubhouse
CATEGORIES:Chat Room
ATTACH;FMTTYPE=image/webp:https://theglassdragons.com/wp-content/uploads/2026/01/Create-Together.webp
END:VEVENT
BEGIN:VEVENT
DTSTART;TZID=America/New_York:20260803T193000
DTEND;TZID=America/New_York:20260803T203000
DTSTAMP:20260423T090934
CREATED:20260401T162115Z
LAST-MODIFIED:20260401T162115Z
UID:10000894-1785785400-1785789000@theglassdragons.com
SUMMARY:Education Committee Meeting
DESCRIPTION:
URL:https://theglassdragons.com/event/education-committee-meeting-4-2/2026-08-03/
LOCATION:Dragon Clubhouse
CATEGORIES:Educational Team Meeting
ATTACH;FMTTYPE=image/png:https://theglassdragons.com/wp-content/uploads/2024/04/EducationTeam.png
END:VEVENT
BEGIN:VEVENT
DTSTART;TZID=America/New_York:20260812T150000
DTEND;TZID=America/New_York:20260812T160000
DTSTAMP:20260423T090934
CREATED:20260201T034434Z
LAST-MODIFIED:20260201T035656Z
UID:10000815-1786546800-1786550400@theglassdragons.com
SUMMARY:Second Wednesday Monthly – Member Chats - 1st Session
DESCRIPTION:We’re hosting an open Zoom chat for members to connect\, share what they’re working on\, and ask questions. Bring your glass projects\, grab a drink\, and hang out with us.
URL:https://theglassdragons.com/event/second-wednesday-monthly-member-chats/2026-08-12/
LOCATION:Dragon Clubhouse
CATEGORIES:Chat Room
ATTACH;FMTTYPE=image/webp:https://theglassdragons.com/wp-content/uploads/2026/01/3PM-Wednesday-Chat.webp
END:VEVENT
BEGIN:VEVENT
DTSTART;TZID=America/New_York:20260812T190000
DTEND;TZID=America/New_York:20260812T200000
DTSTAMP:20260423T090934
CREATED:20260201T035250Z
LAST-MODIFIED:20260201T040629Z
UID:10000826-1786561200-1786564800@theglassdragons.com
SUMMARY:Second Wednesday Monthly – Member Chats - 2nd Session
DESCRIPTION:We’re hosting an open Zoom chat for members to connect\, share what they’re working on\, and ask questions. Bring your glass projects\, grab a drink\, and hang out with us.
URL:https://theglassdragons.com/event/second-wednesday-monthly-member-chats-2nd-session/2026-08-12/
LOCATION:Dragon Clubhouse
CATEGORIES:Chat Room
ATTACH;FMTTYPE=image/webp:https://theglassdragons.com/wp-content/uploads/2026/01/7PM-Wednesday-Chat.webp
END:VEVENT
BEGIN:VEVENT
DTSTART;TZID=America/New_York:20260812T230000
DTEND;TZID=America/New_York:20260812T230000
DTSTAMP:20260423T090934
CREATED:20260201T035522Z
LAST-MODIFIED:20260201T035823Z
UID:10000837-1786575600-1786575600@theglassdragons.com
SUMMARY:Second Wednesday Monthly – Member Chats - 3rd Session
DESCRIPTION:We’re hosting an open Zoom chat for members to connect\, share what they’re working on\, and ask questions. Bring your glass projects\, grab a drink\, and hang out with us.
URL:https://theglassdragons.com/event/second-wednesday-monthly-member-chats-3rd-session/2026-08-12/
LOCATION:Dragon Clubhouse
CATEGORIES:Chat Room
ATTACH;FMTTYPE=image/webp:https://theglassdragons.com/wp-content/uploads/2026/01/11PM-Wednesday-Chat.webp
END:VEVENT
BEGIN:VEVENT
DTSTART;TZID=America/New_York:20260816T193000
DTEND;TZID=America/New_York:20260816T203000
DTSTAMP:20260423T090934
CREATED:20260201T025615Z
LAST-MODIFIED:20260201T040020Z
UID:10000848-1786908600-1786912200@theglassdragons.com
SUMMARY:Creativity Discussion
DESCRIPTION:Our exploration of creativity continues. There’s so much more to uncover about what ignites our imagination\, fuels our ideas\, and keeps us inspired. Join us on the 3rd Sunday of each month as we continue the conversation—we’d love to have you be part of this ongoing creative journey! \nFeel free to join us on the 3rd Sunday of each month – we’d love for you to be a part of this ongoing journey!
URL:https://theglassdragons.com/event/creativity-discussion-7/2026-08-16/
LOCATION:Dragon Clubhouse
CATEGORIES:Creativity Journey
ATTACH;FMTTYPE=image/jpeg:https://theglassdragons.com/wp-content/uploads/2025/02/Creativity-Discussion-e1761964064576.jpg
END:VEVENT
BEGIN:VEVENT
DTSTART;TZID=America/New_York:20260821T193000
DTEND;TZID=America/New_York:20260821T203000
DTSTAMP:20260423T090934
CREATED:20250731T193616Z
LAST-MODIFIED:20250731T193617Z
UID:10000459-1787340600-1787344200@theglassdragons.com
SUMMARY:Fusing Friday
DESCRIPTION:Bring your finished fused pieces to share. Discuss common techniques\, ideas\, tips\, and tricks you have used in your fusing projects (but not any trade secrets from instructors\, please). Tell us about classes you have taken\, and which ones you have found valuable. \nHere are some ways you can share your work: \nTake photos in advance and share your screen during the meeting.\nHold your pieces up to the camera (holding right in front of your face works well).\nWe would be happy to share your images for you\, just email images to us at: communication@theglassdragons.com
URL:https://theglassdragons.com/event/fusing-friday-5-3/2026-08-21/
CATEGORIES:Fusing Friday
ATTACH;FMTTYPE=image/jpeg:https://theglassdragons.com/wp-content/uploads/2021/08/FusingFriday3.jpg
END:VEVENT
END:VCALENDAR